BEGIN:VCALENDAR
VERSION:2.0
PRODID:SchoolNow
CALSCALE:GREGORIAN
BEGIN:VEVENT
UID:5caa9c34-c4ad-11f0-ae7b-0e6403b6e523
DTSTAMP:20251216T154530Z
SUMMARY:Eastlake After Hours Tutor
URL;VALUE=URI:https://www.eastlakehs.net/calendar/8802207/eastlake-after-ho
 urs-tutor
DTSTART:20260501T230000Z
DTEND:20260502T020000Z
END:VEVENT
END:VCALENDAR
